BEGIN:VCALENDAR
VERSION:2.0
PRODID:-//Never Enough Thyme - ECPv6.15.16//NONSGML v1.0//EN
CALSCALE:GREGORIAN
METHOD:PUBLISH
X-WR-CALNAME:Never Enough Thyme
X-ORIGINAL-URL:https://neverenoughthyme.ca
X-WR-CALDESC:Events for Never Enough Thyme
REFRESH-INTERVAL;VALUE=DURATION:PT1H
X-Robots-Tag:noindex
X-PUBLISHED-TTL:PT1H
BEGIN:VTIMEZONE
TZID:UTC
BEGIN:STANDARD
TZOFFSETFROM:+0000
TZOFFSETTO:+0000
TZNAME:UTC
DTSTART:20190101T000000
END:STANDARD
END:VTIMEZONE
BEGIN:VEVENT
DTSTART;TZID=UTC:20200729T160000
DTEND;TZID=UTC:20200729T203000
DTSTAMP:20260424T112441
CREATED:20200721T151917Z
LAST-MODIFIED:20200721T152157Z
UID:3444-1596038400-1596054600@neverenoughthyme.ca
SUMMARY:Takeout: New Pasta Dish
DESCRIPTION:New Takeout Option for Today Only | Specialty Pasta Dish: $39.99 | Feeds: 2-3
URL:https://neverenoughthyme.ca/event/takeout-new-pasta-dish/
LOCATION:Never Enough Thyme\, 83A Arthur St S\, Elmira\, Ontario\, N3B 2M8\, Canada
CATEGORIES:Takeout
ATTACH;FMTTYPE=image/jpeg:https://neverenoughthyme.ca/wp-content/uploads/2020/07/takeout-special.jpg
END:VEVENT
END:VCALENDAR